BEGIN:VCALENDAR
VERSION:2.0
PRODID:-//eventon.com NONSGML v1.0//EN
CALSCALE:GREGORIAN
METHOD:PUBLISH
BEGIN:VEVENT
UID:69e98b9280faa
DTSTAMP:20260423T030138Z
DTSTART:20260423T180000Z
DTEND:20260423T193000Z
LOCATION:
SUMMARY:Stalking & Sexual Violence: What Healthcare Providers Need to Know-SPARC Webinar
DESCRIPTION:Please join SPARC for our upcoming webinar:  Stalking &amp; Se
 xual Violence: What Healthcare Providers Need to Know April 23\,  2026 12:0
 0 &#8211; 1:30 PM MST Sexual violence and stalking are prevalent\,  traumat
 ic\,  and dangerous victimizations that often co-occur. When perpetrators o
 f sexual violence stalk\,  their victims are at greater risk[..]\nhttps://c
 casa.org/events/stalking-sexual-violence-what-healthcare-providers-need-to-
 know/
URL:https://ccasa.org/events/stalking-sexual-violence-what-healthcare-providers-need-to-know/
END:VEVENT
END:VCALENDAR