BEGIN:VCALENDAR
VERSION:2.0
PRODID:-//eventon.com NONSGML v1.0//EN
CALSCALE:GREGORIAN
METHOD:PUBLISH
BEGIN:VEVENT
UID:69e76e5c4b456
DTSTAMP:20260421T123228Z
DTSTART:20260417T160000Z
DTEND:20260417T180000Z
LOCATION:https://ccasa.coalitionmanager.org/eventmanager/trainingeventregistration/create/323
SUMMARY:Supporting Male Survivors of Sexual Violence
DESCRIPTION:Supporting Male Survivors of Sexual Violence Date: Friday\,  Ap
 ril 17\,  2026 Time: 10:00 AM – 12:00 PM MST Location: Online via Zoom Th
 e Colorado Coalition Against Sexual Assault (CCASA) invites advocates\,  se
 rvice providers\,  and community members to join us for an important upcomi
 ng webinar focused on supporting male survivors of[..]\nhttps://ccasa.org/e
 vents/supporting-male-survivors-of-sexual-violence/
URL:https://ccasa.org/events/supporting-male-survivors-of-sexual-violence/
END:VEVENT
END:VCALENDAR