BEGIN:VCALENDAR
VERSION:2.0
PRODID:-//eventon.com NONSGML v1.0//EN
CALSCALE:GREGORIAN
METHOD:PUBLISH
BEGIN:VEVENT
UID:69e76c89c1537
DTSTAMP:20260421T122441Z
DTSTART:20260430T223000Z
DTEND:20260501T033000Z
LOCATION:Grant Humphrey&#039;s Mansion 770 Pennsylvania St
SUMMARY:'Changing the Story for Victims' - Rocky Mountain Victim Law Center's Annual Gala
DESCRIPTION:&#8216;Changing the Story for Victims&#8217;  Thursday\,  Apri
 l 30\,  2026  VIP Access 4:30 PM  &#8211; 9:30 PM G/A Event Access 5:30-9
 :30 PM Grant Humphrey&#8217;s Mansion 770 Pennsylvania St. Denver\,  CO 802
 03 GET TICKETS[..]\nhttps://ccasa.org/events/https-www-rmvictimlaw-org-even
 ts-changing-story-victims/
URL:https://ccasa.org/events/https-www-rmvictimlaw-org-events-changing-story-victims/
END:VEVENT
END:VCALENDAR