BEGIN:VCALENDAR
VERSION:2.0
PRODID:-//eventon.com NONSGML v1.0//EN
CALSCALE:GREGORIAN
METHOD:PUBLISH
BEGIN:VEVENT
UID:69e5f7a5b5546
DTSTAMP:20260420T095341Z
DTSTART:20251113T170000Z
DTEND:20251113T183000Z
LOCATION:https://ccasa.coalitionmanager.org/eventmanager/trainingeventregistration/create/323
SUMMARY:Updated Colorado Housing Protections for Victim-Survivors
DESCRIPTION:Updated Colorado Housing Protections for Victim-Survivors Webin
 ar Thursday\,  November 13\,  2025 10:00 &#8211; 11:30 am This past legisla
 tive session\,  HB 25-1168 expanded the housing rights of tenants who 
 have experienced gender-based violence. This new Colorado law gives survi
 vors stronger rights and safeguards when it comes to housing\,  privacy\,  
 and safety. In this webinar\,  Ariane Frosh\,  Housing Attorney[..]\nhttps:
 //ccasa.org/events/https-ccasa-coalitionmanager-org-eventmanager-trainingev
 ent-details-386/
URL:https://ccasa.org/events/https-ccasa-coalitionmanager-org-eventmanager-trainingevent-details-386/
END:VEVENT
END:VCALENDAR