BEGIN:VCALENDAR
VERSION:2.0
PRODID:-//eventon.com NONSGML v1.0//EN
CALSCALE:GREGORIAN
METHOD:PUBLISH
BEGIN:VEVENT
UID:69ed7af981c30
DTSTAMP:20260426T023953Z
DTSTART:20240829T140000Z
DTEND:20240829T223000Z
LOCATION:
SUMMARY:Colorado 2024 SART Institute
DESCRIPTION:Sexual Assault Response Team (SART) Institute The 2024 Annual S
 ART Institute will be held in-person on: Thursday\,  August 29th 8:00 am &#
 8211; 4:30 pm Centennial\,  CO *More information will be provided after you
  register! Registration Information: Registration is free for CCASA membe
 rs (organizations not individual members) and CCASA members can bring up 
 to three[..]\nhttps://ccasa.org/events/colorado-2024-sart-institute/
URL:https://ccasa.org/events/colorado-2024-sart-institute/
END:VEVENT
END:VCALENDAR