BEGIN:VCALENDAR
VERSION:2.0
PRODID:-//eventon.com NONSGML v1.0//EN
CALSCALE:GREGORIAN
METHOD:PUBLISH
BEGIN:VEVENT
UID:69e5360af097d
DTSTAMP:20260419T200738Z
DTSTART:20240414T200000Z
DTEND:20240414T220000Z
LOCATION:
SUMMARY:Pouring Goodness for Colorado Denim Day
DESCRIPTION:Join us for a &#8220;Pouring Goodness&#8221; Giving Party in su
 pport of the Colorado Coalition Against Sexual Assault (CCASA)! Date: April
  14th Time: 2:00 &#8211; 4:00 PM Location: Lady Justice Brewing Company Our
  mission is simple: we’re brewing great beer to make the world a better p
 lace. New larger location! 3242[..]\nhttps://ccasa.org/events/pouring-goodn
 ess-party-at-lady-justice-brewing-on-april-14-from-2-4-pm/
URL:https://ccasa.org/events/pouring-goodness-party-at-lady-justice-brewing-on-april-14-from-2-4-pm/
END:VEVENT
END:VCALENDAR