BEGIN:VCALENDAR
VERSION:2.0
PRODID:-//eventon.com NONSGML v1.0//EN
CALSCALE:GREGORIAN
METHOD:PUBLISH
BEGIN:VEVENT
UID:69e5cf6f04aac
DTSTAMP:20260420T070207Z
DTSTART:20230809T140000Z
DTEND:20230809T230000Z
LOCATION:
SUMMARY:Colorado SART Institute
DESCRIPTION:Event Details: The 2023 Annual SART Institute will be a HYBRID 
 event\,  held in-person in the 18th Judicial District and virtually. We hop
 e this option allows those not able to step away from their office an oppor
 tunity to learn and share time with others.  The Institute will be held W
 ednesday\,  August[..]\nhttps://ccasa.org/events/https-ccasa-coalitionmanag
 er-org-eventmanager-trainingevent-details-200/
URL:https://ccasa.org/events/https-ccasa-coalitionmanager-org-eventmanager-trainingevent-details-200/
END:VEVENT
END:VCALENDAR