BEGIN:VCALENDAR
VERSION:2.0
PRODID:-//eventon.com NONSGML v1.0//EN
CALSCALE:GREGORIAN
METHOD:PUBLISH
BEGIN:VEVENT
UID:69eceba15343c
DTSTAMP:20260425T162817Z
DTSTART:20230425T160000Z
DTEND:20230425T173000Z
LOCATION:
SUMMARY:A LONGING IN THE SOUL:  Healing Sexual Trauma Through the Presence of a Horse
DESCRIPTION:Click Here to Register! Sexual violence and resulting trauma ar
 e a body-based experience\,  therefore\,  cognitive oriented therapies can 
 only support healing to a certain point.  Somatic\,  mindfulness-based and
  experiential therapies have been found to be effective in mitigating many 
 of the challenging symptoms resulting from the deep neurological mapping of
 [..]\nhttps://ccasa.org/events/a-longing-in-the-soul-healing-sexual-trauma-
 through-the-presence-of-a-horse/
URL:https://ccasa.org/events/a-longing-in-the-soul-healing-sexual-trauma-through-the-presence-of-a-horse/
END:VEVENT
END:VCALENDAR