BEGIN:VCALENDAR
VERSION:2.0
PRODID:-//eventon.com NONSGML v1.0//EN
CALSCALE:GREGORIAN
METHOD:PUBLISH
BEGIN:VEVENT
UID:69eae0a748ea4
DTSTAMP:20260424T031655Z
DTSTART:20230116T160000Z
DTEND:20230117T000000Z
LOCATION:
SUMMARY:Teller County Suicide Awareness Symposium
DESCRIPTION:Coffee\,  snacks\,  lunch included. Learn how to start the conv
 ersation about suicide\,  hear from suicide loss survivors and field expert
 s\,  grief and postvention\,  ways to end the stigma.[..]\nhttps://ccasa.or
 g/events/teller-county-suicide-awareness-symposium/
URL:https://ccasa.org/events/teller-county-suicide-awareness-symposium/
END:VEVENT
END:VCALENDAR