BEGIN:VCALENDAR
VERSION:2.0
PRODID:-//eventon.com NONSGML v1.0//EN
CALSCALE:GREGORIAN
METHOD:PUBLISH
BEGIN:VEVENT
UID:69e74d75067bb
DTSTAMP:20260421T101205Z
DTSTART:20210824T150000Z
DTEND:20210825T223000Z
LOCATION:
SUMMARY:SART Coordinator Day and SART Institute
DESCRIPTION:SART Coordinator Day: August 24th\,  2021 SART Institute: Augus
 t 25th\,  2021 Platform: Zoom Registration Information: Registration is fr
 ee for CCASA members (organizations not individual members) and CCASA memb
 ers can bring up to 3 others members from their SART team (even if those te
 am members are not CCASA members). Please note: Everyone will need[..]\nht
 tps://ccasa.org/events/sart-coordinator-day-and-sart-institute/
URL:https://ccasa.org/events/sart-coordinator-day-and-sart-institute/
END:VEVENT
END:VCALENDAR