BEGIN:VCALENDAR
VERSION:2.0
PRODID:-//eventon.com NONSGML v1.0//EN
CALSCALE:GREGORIAN
METHOD:PUBLISH
BEGIN:VEVENT
UID:69e9546d0991c
DTSTAMP:20260422T230621Z
DTSTART:20210623T160000Z
DTEND:20210623T173000Z
LOCATION:
SUMMARY:Using Storytelling as Innovative Community Engagement Tools for Primary Prevention Efforts
DESCRIPTION:Wednesday\,  June 23rd 10:00 am- 11:30 am Mountain Time Present
 ed By: Meghna Bhat\,  PhD\,  Project Manager\,  ValorUS (formerly known as
  CALCASA) Click Here To Register! True personal stories have a profound eff
 ect on us. It can transform public perceptions\,  attitudes\,  knowledge\, 
  and reactions towards other people and social issues and build[..]\nhttps:
 //ccasa.org/events/using-storytelling-as-innovative-community-engagement-to
 ols-for-primary-prevention-efforts/
URL:https://ccasa.org/events/using-storytelling-as-innovative-community-engagement-tools-for-primary-prevention-efforts/
END:VEVENT
END:VCALENDAR