BEGIN:VCALENDAR
VERSION:2.0
PRODID:-//eventon.com NONSGML v1.0//EN
CALSCALE:GREGORIAN
METHOD:PUBLISH
BEGIN:VEVENT
UID:69e7bb62eb850
DTSTAMP:20260421T180106Z
DTSTART:20210422T200000Z
DTEND:20210422T213000Z
LOCATION:
SUMMARY:Part 2 Rural Sustainability: Prioritizing Services
DESCRIPTION:Thursday\,  April 22nd 2:00 pm-3:30 pm Mountain Time Presented 
 By: Leah Green\,  Rural Technical Assistance Specialist for the Resource S
 haring Project\,  Iowa Coalition Against Sexual Assault and Gina Lopez\,  
 Rural &amp; Indigenous Communities Specialist Click Here To Register! In th
 is next round of the same discussion format as Part 1 Rural Sustainability
 \,  we[..]\nhttps://ccasa.org/events/part-2-rural-sustainability-prioritizi
 ng-services/
URL:https://ccasa.org/events/part-2-rural-sustainability-prioritizing-services/
END:VEVENT
END:VCALENDAR