BEGIN:VCALENDAR
VERSION:2.0
PRODID:-//eventon.com NONSGML v1.0//EN
CALSCALE:GREGORIAN
METHOD:PUBLISH
BEGIN:VEVENT
UID:69e7d0c1ac5c5
DTSTAMP:20260421T193217Z
DTSTART:20210408T200000Z
DTEND:20210408T213000Z
LOCATION:
SUMMARY:Part 1 Rural Sustainability: Orientation & Training
DESCRIPTION:Thursday\,  April 8th 2:00 pm-3:30 pm Mountain Time Presented B
 y: Leah Green\,  Rural Technical Assistance Specialist for the Resource Sh
 aring Project\,  Iowa Coalition Against Sexual Assault and Gina Lopez\,  R
 ural &amp; Indigenous Communities Specialist Click Here To Register! In thi
 s first part of Rural SA work\,  we will be discussing together a[..]\nhttp
 s://ccasa.org/events/part-1-rural-sustainability-orientation-training/
URL:https://ccasa.org/events/part-1-rural-sustainability-orientation-training/
END:VEVENT
END:VCALENDAR