BEGIN:VCALENDAR
VERSION:2.0
PRODID:-//eventon.com NONSGML v1.0//EN
CALSCALE:GREGORIAN
METHOD:PUBLISH
BEGIN:VEVENT
UID:69ecce0be3df1
DTSTAMP:20260425T142203Z
DTSTART:20210324T230000Z
DTEND:20210325T010000Z
LOCATION:Provided once registered
SUMMARY:MenHealing and Men's Story Project: "Survivors' Healing Journeys"
DESCRIPTION:This is a collaborative project between MenHealing and The Men&
 #8217;s Story Project called &#8220;Survivors&#8217; Healing Journey.&#8221
 ; Twelve male survivors of sexual victimization were chosen from a national
  submissions outreach. Facilitators from both MenHealing and Men&#8217;s St
 ory Project have worked with these individuals over the course of seven wor
 kshops to guide[..]\nhttps://ccasa.org/events/menhealing-and-mens-story-pro
 ject-survivors-healing-journeys/var/event_access
URL:https://ccasa.org/events/menhealing-and-mens-story-project-survivors-healing-journeys/var/event_access
END:VEVENT
END:VCALENDAR